BEGIN:VCALENDAR
VERSION:2.0
PRODID:-//Miami Collegium Musicum - ECPv6.15.14//NONSGML v1.0//EN
CALSCALE:GREGORIAN
METHOD:PUBLISH
X-ORIGINAL-URL:https://miamicollegium.org
X-WR-CALDESC:Events for Miami Collegium Musicum
REFRESH-INTERVAL;VALUE=DURATION:PT1H
X-Robots-Tag:noindex
X-PUBLISHED-TTL:PT1H
BEGIN:VTIMEZONE
TZID:UTC
BEGIN:STANDARD
TZOFFSETFROM:+0000
TZOFFSETTO:+0000
TZNAME:UTC
DTSTART:20240101T000000
END:STANDARD
END:VTIMEZONE
BEGIN:VEVENT
DTSTART;TZID=UTC:20250228T193000
DTEND;TZID=UTC:20250228T210000
DTSTAMP:20260421T040414
CREATED:20241223T232229Z
LAST-MODIFIED:20250220T025313Z
UID:859-1740771000-1740776400@miamicollegium.org
SUMMARY:CPE Bach Magnificat
DESCRIPTION:
URL:https://miamicollegium.org/event/cpe-bach-magnificat-granada/
LOCATION:Granada Church\, 950 University Dr.\, Coral Gables\, FL\, 33134\, United States
ATTACH;FMTTYPE=image/png:https://miamicollegium.org/wp-content/uploads/2024/12/CPE-Bach-380-x-254-px-1.png
END:VEVENT
BEGIN:VEVENT
DTSTART;TZID=UTC:20250302T160000
DTEND;TZID=UTC:20250302T173000
DTSTAMP:20260421T040414
CREATED:20241223T232453Z
LAST-MODIFIED:20250220T030453Z
UID:862-1740931200-1740936600@miamicollegium.org
SUMMARY:CPE Bach Magnificat
DESCRIPTION:
URL:https://miamicollegium.org/event/cpe-bach-magnificat-st-andrews/
LOCATION:St Andrews Episcopal Church\, 14260 Old Cutler Road\, Miami\, FL
ATTACH;FMTTYPE=image/png:https://miamicollegium.org/wp-content/uploads/2024/12/CPE-Bach-380-x-254-px-1.png
END:VEVENT
BEGIN:VEVENT
DTSTART;TZID=UTC:20250503T183000
DTEND;TZID=UTC:20250503T193000
DTSTAMP:20260421T040414
CREATED:20250312T155258Z
LAST-MODIFIED:20250403T031335Z
UID:878-1746297000-1746300600@miamicollegium.org
SUMMARY:Serenade to Motherhood 2025 (The Palace)
DESCRIPTION:Our Mother’s Day concert is back for 2025! Join us for another choral celebration of motherhood and women composers. \nAccompanied by piano.
URL:https://miamicollegium.org/event/serenade-to-motherhood-2025-palace/
LOCATION:The Palace Suites\, 11377 SW 84th St\, Miami\, FL\, 33173
CATEGORIES:Performance
END:VEVENT
BEGIN:VEVENT
DTSTART;TZID=UTC:20250510T193000
DTEND;TZID=UTC:20250510T210000
DTSTAMP:20260421T040414
CREATED:20250312T155925Z
LAST-MODIFIED:20250403T032438Z
UID:883-1746905400-1746910800@miamicollegium.org
SUMMARY:Serenade to Motherhood 2025 (Sanctuary of the Arts)
DESCRIPTION:Miami Collegium Musicum’s Serenade to Motherhood is back\, featuring works celebrating motherhood and showcasing women composers. With choir\, soloists\, and accompaniment including piano\, saxophone\, and percussion\, this is a one-of-a-kind concert you don’t want to miss! \nTickets coming soon to the Sanctuary of the Arts website. Stay tuned!
URL:https://miamicollegium.org/event/serenade-to-motherhood-2025-sota/
LOCATION:Sanctuary of the Arts\, 410 Andalusia Ave\, Coral Gables\, FL\, United States
ATTACH;FMTTYPE=image/png:https://miamicollegium.org/wp-content/uploads/2025/03/Sanctuary-of-the-Arts-1440-x-900-px.png
END:VEVENT
BEGIN:VEVENT
DTSTART;TZID=UTC:20251012T173000
DTEND;TZID=UTC:20251012T183000
DTSTAMP:20260421T040414
CREATED:20250810T051733Z
LAST-MODIFIED:20250929T215751Z
UID:920-1760290200-1760293800@miamicollegium.org
SUMMARY:Centennial Evensong at Trinity Cathedral
DESCRIPTION:Anglican Chorale\, Miami Collegium Musicum\, and St. Stephen’s Episcopal Church choir join forces to celebrate the 100th anniversary of Trinity Cathedral. Dr. Matthew Brady\, director; Christopher Harrell\, organ.
URL:https://miamicollegium.org/event/evensong-at-trinity-cathedral/
LOCATION:Trinity Cathedral\, 464 NE 16th St.\, Miami\, FL\, 33132\, United States
ATTACH;FMTTYPE=image/png:https://miamicollegium.org/wp-content/uploads/2025/09/Trinity-Centennial-Evensong.png
END:VEVENT
BEGIN:VEVENT
DTSTART;TZID=UTC:20251019T180000
DTEND;TZID=UTC:20251019T190000
DTSTAMP:20260421T040414
CREATED:20250810T011406Z
LAST-MODIFIED:20250929T215533Z
UID:918-1760896800-1760900400@miamicollegium.org
SUMMARY:Evensong at St. Bede Episcopal Chapel
DESCRIPTION:Join us for our annual evensong at the Chapel of the Venerable Bede – all are welcome!
URL:https://miamicollegium.org/event/evensong-at-st-bede-episcopal-church/
LOCATION:The Chapel of the Venerable Bede\, 1150 Stanford Drive -- University of Miami\, Coral Gables\, FL
ATTACH;FMTTYPE=image/png:https://miamicollegium.org/wp-content/uploads/2025/08/2025-Bede-Evensong-840-x-630-px.png
END:VEVENT
BEGIN:VEVENT
DTSTART;TZID=UTC:20251215T190000
DTEND;TZID=UTC:20251215T203000
DTSTAMP:20260421T040414
CREATED:20251210T015725Z
LAST-MODIFIED:20251210T015725Z
UID:965-1765825200-1765830600@miamicollegium.org
SUMMARY:Harmonies for the Holidays 2025
DESCRIPTION:Join us in Cutler Bay on Monday\, December 15th for our annual winter concert. Let us bring you some holiday cheer with some seasonal classics—with our special flair\, of course! Admission is free to all.
URL:https://miamicollegium.org/event/harmonies-for-the-holidays-2025/
LOCATION:East Ridge at Cutler Bay\, 19301 SW 87th Ave\, Cutler Bay\, FL\, 33157\, United States
ATTACH;FMTTYPE=image/png:https://miamicollegium.org/wp-content/uploads/2025/12/2025-HFH.png
END:VEVENT
BEGIN:VEVENT
DTSTART;TZID=UTC:20260301T160000
DTEND;TZID=UTC:20260301T173000
DTSTAMP:20260421T040414
CREATED:20260206T220203Z
LAST-MODIFIED:20260301T033845Z
UID:968-1772380800-1772386200@miamicollegium.org
SUMMARY:Celebrating the Choral Legacy of Dr. Donald Oglesby
DESCRIPTION:
URL:https://miamicollegium.org/event/celebrating-the-choral-legacy-of-dr-donald-oglesby/
LOCATION:St Andrews Episcopal Church\, 14260 Old Cutler Road\, Miami\, FL
ATTACH;FMTTYPE=image/png:https://miamicollegium.org/wp-content/uploads/2026/02/DonOglesbyConcert.png
END:VEVENT
END:VCALENDAR