BEGIN:VCALENDAR
VERSION:2.0
PRODID:-//Miami Collegium Musicum - ECPv6.15.14//NONSGML v1.0//EN
CALSCALE:GREGORIAN
METHOD:PUBLISH
X-WR-CALNAME:Miami Collegium Musicum
X-ORIGINAL-URL:https://miamicollegium.org
X-WR-CALDESC:Events for Miami Collegium Musicum
REFRESH-INTERVAL;VALUE=DURATION:PT1H
X-Robots-Tag:noindex
X-PUBLISHED-TTL:PT1H
BEGIN:VTIMEZONE
TZID:UTC
BEGIN:STANDARD
TZOFFSETFROM:+0000
TZOFFSETTO:+0000
TZNAME:UTC
DTSTART:20180101T000000
END:STANDARD
END:VTIMEZONE
BEGIN:VEVENT
DTSTART;TZID=UTC:20231022T060000
DTEND;TZID=UTC:20231022T190000
DTSTAMP:20260420T195233
CREATED:20230917T010416Z
LAST-MODIFIED:20230917T010416Z
UID:418-1697954400-1698001200@miamicollegium.org
SUMMARY:Choral Evensong Service
DESCRIPTION: 
URL:https://miamicollegium.org/event/choral-evensong-service/
LOCATION:The Chapel of the Venerable Bede\, 1150 Stanford Drive -- University of Miami\, Coral Gables\, FL
END:VEVENT
BEGIN:VEVENT
DTSTART;TZID=UTC:20230416T160000
DTEND;TZID=UTC:20230416T190000
DTSTAMP:20260420T195233
CREATED:20230209T032935Z
LAST-MODIFIED:20230209T032935Z
UID:359-1681660800-1681671600@miamicollegium.org
SUMMARY:Bach B minor Mass
DESCRIPTION:      One of the most profound spiritual testaments ever composed\, Johann Sebastian Bach’s Mass in B minor is the summation of a lifetime of creating music.  It is regarded as the culmination of his musical works and one of the most important masterpieces in the entire history of music. \n      Thanks to the generous donation of a former member of the Miami Collegium Musicum\, we are able to present this work with the support of the University of Miami\, including instrumental musicians\, inspiring listeners to patient expectation and hope.
URL:https://miamicollegium.org/event/bach-b-minor-mass/
LOCATION:St Andrews Episcopal Church\, 14260 Old Cutler Road\, Miami\, FL
END:VEVENT
BEGIN:VEVENT
DTSTART;TZID=UTC:20220403T170000
DTEND;TZID=UTC:20220403T183000
DTSTAMP:20260420T195233
CREATED:20200223T195958Z
LAST-MODIFIED:20220314T040931Z
UID:252-1649005200-1649010600@miamicollegium.org
SUMMARY:Judgment of Solomon
DESCRIPTION:Miami Collegium Musicum returns to perform the music of Marc-Antoine Charpentier.  The centerpiece of the performance is Charpentier’s Judgment of Solomon.
URL:https://miamicollegium.org/event/judgment-of-solomon/
LOCATION:St Andrews Episcopal Church\, 14260 Old Cutler Road\, Miami\, FL
ATTACH;FMTTYPE=image/jpeg:https://miamicollegium.org/wp-content/uploads/2020/02/Judgement-of-Solomon-image.jpg
END:VEVENT
BEGIN:VEVENT
DTSTART;TZID=UTC:20220402T193000
DTEND;TZID=UTC:20220402T210000
DTSTAMP:20260420T195233
CREATED:20200223T200306Z
LAST-MODIFIED:20220314T040733Z
UID:256-1648927800-1648933200@miamicollegium.org
SUMMARY:Judgment of Solomon
DESCRIPTION:Miami Collegium Musicum returns  to perform the music of Marc-Antoine Charpentier.  The centerpiece of the performance is Charpentier’s Judgment of Solomon.
URL:https://miamicollegium.org/event/judgement-of-solomon/
LOCATION:Riviera Presbyterian Church\, 5275 Sunset Drive\, Miami\, FL
ATTACH;FMTTYPE=image/jpeg:https://miamicollegium.org/wp-content/uploads/2020/02/Judgement-of-Solomon-image.jpg
END:VEVENT
BEGIN:VEVENT
DTSTART;VALUE=DATE:20200509
DTEND;VALUE=DATE:20200511
DTSTAMP:20260420T195233
CREATED:20200223T204952Z
LAST-MODIFIED:20200223T205035Z
UID:259-1588982400-1589155199@miamicollegium.org
SUMMARY:Brahms
DESCRIPTION:All Brahms Concert
URL:https://miamicollegium.org/event/brahms/
LOCATION:TBA
END:VEVENT
BEGIN:VEVENT
DTSTART;TZID=UTC:20191208T160000
DTEND;TZID=UTC:20191208T170000
DTSTAMP:20260420T195233
CREATED:20191016T170357Z
LAST-MODIFIED:20191111T023648Z
UID:166-1575820800-1575824400@miamicollegium.org
SUMMARY:Holiday Joy
DESCRIPTION:Vivaldi’s Gloria is featured with other favorites to make an inspirational and fun start to the holiday season.
URL:https://miamicollegium.org/event/holiday-joy/
LOCATION:Riviera Presbyterian Church\, 5275 Sunset Drive\, Miami\, FL
END:VEVENT
BEGIN:VEVENT
DTSTART;TZID=UTC:20191207T193000
DTEND;TZID=UTC:20191207T210000
DTSTAMP:20260420T195233
CREATED:20191016T170454Z
LAST-MODIFIED:20191111T023750Z
UID:163-1575747000-1575752400@miamicollegium.org
SUMMARY:Holiday Joy
DESCRIPTION:Vivaldi’s Gloria is featured with other favorites to make an inspirational and fun start to the holiday season.
URL:https://miamicollegium.org/event/holiday-joy-2/
LOCATION:St Andrews Episcopal Church\, 14260 Old Cutler Road\, Miami\, FL
END:VEVENT
BEGIN:VEVENT
DTSTART;TZID=UTC:20191020T180000
DTEND;TZID=UTC:20191020T190000
DTSTAMP:20260420T195233
CREATED:20191016T164259Z
LAST-MODIFIED:20191018T201624Z
UID:155-1571594400-1571598000@miamicollegium.org
SUMMARY:A Choral Evensong Service
DESCRIPTION:The music of Orlando Gibbons performed by Miami Collegium Musicum\, under the direction of Dr. Donald Oglesby\, joined by Tropical Viols\, (Miami’s Viola da Gamba Consort) is featured.
URL:https://miamicollegium.org/event/a-choral-evensong-service/
LOCATION:The Chapel of the Venerable Bede\, 1150 Stanford Drive -- University of Miami\, Coral Gables\, FL
END:VEVENT
END:VCALENDAR