BEGIN:VCALENDAR
VERSION:2.0
PRODID:-//Miami Collegium Musicum - ECPv6.15.14//NONSGML v1.0//EN
CALSCALE:GREGORIAN
METHOD:PUBLISH
X-WR-CALNAME:Miami Collegium Musicum
X-ORIGINAL-URL:https://miamicollegium.org
X-WR-CALDESC:Events for Miami Collegium Musicum
REFRESH-INTERVAL;VALUE=DURATION:PT1H
X-Robots-Tag:noindex
X-PUBLISHED-TTL:PT1H
BEGIN:VTIMEZONE
TZID:UTC
BEGIN:STANDARD
TZOFFSETFROM:+0000
TZOFFSETTO:+0000
TZNAME:UTC
DTSTART:20180101T000000
END:STANDARD
END:VTIMEZONE
BEGIN:VEVENT
DTSTART;TZID=UTC:20191020T180000
DTEND;TZID=UTC:20191020T190000
DTSTAMP:20260421T223654
CREATED:20191016T164259Z
LAST-MODIFIED:20191018T201624Z
UID:155-1571594400-1571598000@miamicollegium.org
SUMMARY:A Choral Evensong Service
DESCRIPTION:The music of Orlando Gibbons performed by Miami Collegium Musicum\, under the direction of Dr. Donald Oglesby\, joined by Tropical Viols\, (Miami’s Viola da Gamba Consort) is featured.
URL:https://miamicollegium.org/event/a-choral-evensong-service/
LOCATION:The Chapel of the Venerable Bede\, 1150 Stanford Drive -- University of Miami\, Coral Gables\, FL
END:VEVENT
END:VCALENDAR