BEGIN:VCALENDAR
VERSION:2.0
PRODID:-//Miami Collegium Musicum - ECPv6.15.14//NONSGML v1.0//EN
CALSCALE:GREGORIAN
METHOD:PUBLISH
X-ORIGINAL-URL:https://miamicollegium.org
X-WR-CALDESC:Events for Miami Collegium Musicum
REFRESH-INTERVAL;VALUE=DURATION:PT1H
X-Robots-Tag:noindex
X-PUBLISHED-TTL:PT1H
BEGIN:VTIMEZONE
TZID:UTC
BEGIN:STANDARD
TZOFFSETFROM:+0000
TZOFFSETTO:+0000
TZNAME:UTC
DTSTART:20230101T000000
END:STANDARD
END:VTIMEZONE
BEGIN:VEVENT
DTSTART;TZID=UTC:20241020T173000
DTEND;TZID=UTC:20241020T190000
DTSTAMP:20260422T230014
CREATED:20240919T145646Z
LAST-MODIFIED:20241012T021828Z
UID:750-1729445400-1729450800@miamicollegium.org
SUMMARY:Evensong with Anglican Chorale
DESCRIPTION:  \nOur annual October Evensong service this year is hosted by Trinity Cathedral as a collaboration with Christopher Harrell and the Anglican Chorale. Experience a sacred service with hymns and anthems\, including Howells’ Magnificat and Nunc Dimittis\, and Bruckner’s Os Justi in the luxurious acoustical space of one of Miami’s most beautiful cathedrals. Dr. Matthew Brady directing and Christopher Harrell on organ. \nDate: Sunday\, October 20th @ 5:30pm \nCost: Free. \nParking: Free in lot behind church. Tell the attendant you’re attending the concert.
URL:https://miamicollegium.org/event/evensong-with-anglican-chorale/
LOCATION:Trinity Cathedral\, 464 NE 16th St.\, Miami\, FL\, 33132\, United States
CATEGORIES:Evensong,Performance
ATTACH;FMTTYPE=image/png:https://miamicollegium.org/wp-content/uploads/2024/10/Evensong-w_-Anglican-Chorale-1.png
END:VEVENT
END:VCALENDAR